BEGIN:VCALENDAR
VERSION:2.0
PRODID:-//ISIAsia - ECPv4.6.7//NONSGML v1.0//EN
CALSCALE:GREGORIAN
METHOD:PUBLISH
X-WR-CALNAME:ISIAsia
X-ORIGINAL-URL:https://isiasia.org/?lang=zh-hant
X-WR-CALDESC:Events for ISIAsia
BEGIN:VEVENT
DTSTART;VALUE=DATE:20191103
DTEND;VALUE=DATE:20191104
DTSTAMP:20260421T184701
CREATED:20190904T085359Z
LAST-MODIFIED:20190904T090522Z
UID:13559-1572739200-1572825599@isiasia.org
SUMMARY:2019-2020萬象杯花樣滑冰巡迴賽-杭州站
DESCRIPTION:請下載以下檔案作參考\n競賽規則與條例\n比賽項目簡單描述\n個人報名表\n團體報名表\n銀行資料 \n  \n報名截止日期          2019年10月7日 (逾期雙倍收費)\n  \n報名程序\n1. 確保參賽學員於比賽期間持有有效ISIAsia會籍和比賽前完成注冊項目相關等級(如有疑問請電郵至ISIAsia辦事處查詢)。\n2. 填好報名表格並由教練簽署確認項目等級正確。\n3. 把報名表格及報名費用遞交至主辦冰場\, 請注意報名表格仍然須要電郵至ISIAsia辦事處作紀錄。\n4. 如有項目或其他修改\, 請聯絡ISIAsia辦事處 及 賽事總監。 \n  \n聯絡電郵 \n\nISIAsia Office\nVanessa Cheung小姐 members@isiasia.org\n賽事總監\nIndy Wong先生 indywong@isiasia.org\n主辦冰場\n黃培先生 brad.huang@crland.com.cn\n\n
URL:https://isiasia.org/competition/wiacup19hz/?lang=zh-hant
LOCATION:中國淅江省杭州市江干區錢江新城富春路701號萬象城4樓\, 310020
CATEGORIES:比賽
ATTACH;FMTTYPE=image/png:https://isiasia.org/wp-content/uploads/2019/09/WIACUP19HZ-Poster.png
END:VEVENT
END:VCALENDAR