BEGIN:VCALENDAR
VERSION:2.0
PRODID:-//ISIAsia - ECPv4.6.7//NONSGML v1.0//EN
CALSCALE:GREGORIAN
METHOD:PUBLISH
X-WR-CALNAME:ISIAsia
X-ORIGINAL-URL:https://isiasia.org
X-WR-CALDESC:Events for ISIAsia
BEGIN:VEVENT
DTSTART;VALUE=DATE:20250608
DTEND;VALUE=DATE:20250611
DTSTAMP:20260419T195510
CREATED:20250408T040157Z
LAST-MODIFIED:20250408T040410Z
UID:22065-1749340800-1749599999@isiasia.org
SUMMARY:Skate Manila 2025
DESCRIPTION:Please download the following documents for your information.\n Event Descriptions \n Eligibility Rules \n Event List \n Individual Entry Form \n Team Entry Form \n Schedule  \n  \nEntry Deadline            20 Apr 2025\n  \nRegistration for Entry\n1. Please make sure all the participants have valid ISIAsia membership during Competition and registered relevant test level to ISIAsia Office before Entry Deadline.\n2. You can register through EzRegis System.\n3. Transfer entry payment to Host Rink.\n4. Any updates prior to the entry deadline may be submitted through the EzRegis System.\n5. After the entry deadline\, all amendments must be communicated to both ISIAsia Office and Competition Director.\n6. Please be advised that an update fee will be applicable for any changes made after the entry deadline. \n  \nContact \n\nCompetition Director (Competition and Events Related Enquiry)Mr. Christian Gabriel Cruz at christiangabrielcruz@yahoo.com\nISIAsia Membership and Test Registration\nMs. Vanessa Cheung at info@isiasia.org\n\n
URL:https://isiasia.org/competition/smnl2025/
LOCATION:SM Mall of Asia\, Main Mall building. Level 3\, J.W. Diokno Boulevard\, Mall of Asia Complex Central Business Park\, 1A Pasay City\, Philippines
CATEGORIES:Competition
ATTACH;FMTTYPE=image/jpeg:https://isiasia.org/wp-content/uploads/2025/04/SMNL2025-Poster.jpg
END:VEVENT
END:VCALENDAR