BEGIN:VCALENDAR
VERSION:2.0
PRODID:-//ISIAsia - ECPv4.6.7//NONSGML v1.0//EN
CALSCALE:GREGORIAN
METHOD:PUBLISH
X-WR-CALNAME:ISIAsia
X-ORIGINAL-URL:https://isiasia.org/?lang=zh-hans
X-WR-CALDESC:Events for ISIAsia
BEGIN:VEVENT
DTSTART;VALUE=DATE:20231013
DTEND;VALUE=DATE:20231016
DTSTAMP:20260421T102301
CREATED:20230710T063223Z
LAST-MODIFIED:20230710T063223Z
UID:19927-1697155200-1697414399@isiasia.org
SUMMARY:Skate Johor 2023
DESCRIPTION:Please download the following documents for your information.\n Special Coach Notes \n Event Descriptions \n Eligibility Rules \n Individual Entry Form \n Team Entry Form \n Hotel & Travel Info  \n  \nEntry Deadline          1 Sept 2023 (If accepted\, entry fees will be doubled after entry deadline)\n  \nRegistration for Entry\n1. Please make sure all the participants have valid ISIAsia membership during Competition and registered relevant test level to ISIAsia Office before competition start. (If you have any questions\, please feel free to contact ISIAsia Office)\n2. Complete the entry form with ISIAsia valid coach to sign for confirmation of event level.\n3. Send the entry forms and transfer entry payment to Host Rink. Please be reminded that you have to send a copy of all the entry forms to ISIAsia Office for record.\n4. If there is any updates or changes\, please contact ISIAsia Office AND the Competition Director. \n  \nContact \n\nISIAsia Office\nMs. Vanessa Cheung at members@isiasia.org\nCompetition Director\nMr. Wiwin Darmawan Salim at skatejohor@gmail.com\n\n
URL:https://isiasia.org/competition/sjh2023/?lang=zh-hans
LOCATION:Paradigm Mall Johor Bahru\, Jalan Bertingkat \, 81200\, Skudai Johor\, Malaysia
CATEGORIES:比赛
ATTACH;FMTTYPE=image/jpeg:https://isiasia.org/wp-content/uploads/2023/07/SJH2023-Poster.jpg
END:VEVENT
END:VCALENDAR