BEGIN:VCALENDAR
VERSION:2.0
PRODID:-//ISIAsia - ECPv4.6.7//NONSGML v1.0//EN
CALSCALE:GREGORIAN
METHOD:PUBLISH
X-WR-CALNAME:ISIAsia
X-ORIGINAL-URL:https://isiasia.org/?lang=zh-hans
X-WR-CALDESC:Events for ISIAsia
BEGIN:VEVENT
DTSTART;VALUE=DATE:20191024
DTEND;VALUE=DATE:20191028
DTSTAMP:20260421T104425
CREATED:20180906T091211Z
LAST-MODIFIED:20190819T075925Z
UID:11822-1571875200-1572220799@isiasia.org
SUMMARY:Skate Indonesia 2019
DESCRIPTION:Greetings from OASIS CENTRE ARENA\, INDONESIA \nOasis Centre Arena is pleased to invite you to participate in the “SKATE INDONESIA 2019”. \nSkate Indonesia 2019 is the 4th Series of ISIAsia Championship 2019 featuring greatest skaters around South East Asia. \n     Competition Dates :  24 October – 27 October 2019 \n     Entry Deadline       :  Tuesday\, 24 September 2019 \nMake your plans now to be part of this year’s remarkable and colorful “Skate Indonesia 2019” competition in Oasis Centre Arena\, Indonesia. \nAll of our previous competitions have been a great success – and with your participation – this year will be more fun & exciting too! \nCOMPETITION ENTRY & TESTING DEADLINES WILL BE STRICTLY ENFORCED – TUESDAY\, 24 SEPTEMBER 2019. \n  \nFor more information\, please visit our SKATE INDONESIA official website www.skateindonesia.com (Will be launched next week)! \n  \nHarry Janto Leo \nSkate Indonesia 2019 \nCompetition Director \ne-mail: episkate@gmail.com \n  \nPlease download the following documents for your information.\nCoaches Special Notes\nEligibility Rules\nEvent Description\nEvent List\nIndividual Entry Form\nTeam Entry Form \n  \nEntry Deadline          24 September 2019 (If accepted\, entry fees will be doubled after entry deadline)\n  \nRegistration for Entry\n1. Please make sure all the participants have valid ISIAsia membership during Competition and registered relevant test level to ISIAsia Office before competition start. (If you have any questions\, please feel free to contact ISIAsia Office)\n2. Complete the entry form with ISIAsia valid coach to sign for confirmation of event level\n3. Send the entry forms and transfer entry payment to Host Rink. Please be reminded that you have to send a copy of all the entry forms to ISIAsia Office for record\n4. If there is any updates or changes\, please contact ISIAsia Office AND the Competition Director \n  \nContact \n\nISIAsia Office\nMs. Vanessa Cheung at members@isiasia.org\nCompetition Director\nMr. Harry Janto Leo at episkate@gmail.com\n\n
URL:https://isiasia.org/competition/si19/?lang=zh-hans
LOCATION:1/F AEON Mall Jakarta Garden City\, Cakung - East Jakarta\, Indonesia\, Indonesia
CATEGORIES:比赛
ATTACH;FMTTYPE=image/jpeg:https://isiasia.org/wp-content/uploads/2019/08/SI19-Poster.jpg
END:VEVENT
END:VCALENDAR