BEGIN:VCALENDAR
VERSION:2.0
PRODID:-//ISIAsia - ECPv4.6.7//NONSGML v1.0//EN
CALSCALE:GREGORIAN
METHOD:PUBLISH
X-WR-CALNAME:ISIAsia
X-ORIGINAL-URL:https://isiasia.org/?lang=zh-hant
X-WR-CALDESC:Events for ISIAsia
BEGIN:VEVENT
DTSTART;VALUE=DATE:20250627
DTEND;VALUE=DATE:20250630
DTSTAMP:20260419T133135
CREATED:20250328T094714Z
LAST-MODIFIED:20250402T102649Z
UID:22034-1750982400-1751241599@isiasia.org
SUMMARY:2025 ISI香港滑冰邀請賽
DESCRIPTION:請下載以下檔案作參考\n 比賽項目簡單描述 & 競賽規則與條例 \n 個人報名表 \n 團體報名表 \n 酒店預訂特別優惠  \n  \n報名截止日期            2025年5月15日\n  \n報名程序\n1. 請確保參賽學員於比賽期間持有有效ISIAsia會籍以及報名截止前完成註冊項目相關等級(如有疑問請電郵至ISIAsia辦事處查詢)。\n2. 填好報名表格並由教練簽署確認項目等級正確。\n3. 把報名表格及報名費用遞交至主辦冰場\, 請注意報名表格仍然須要電郵至ISIAsia辦事處作紀錄。\n4. 如有項目或其他修改\, 請聯絡ISIAsia辦事處 及 賽事總監。\n5. 請注意，報名截止日期後進行的任何更改都將收取更新費用。 \n  \n聯絡電郵 \n\n賽事總監 （比賽及比賽項目相關查詢）\nIndy Wong先生 indywong@isiasia.org\nISIAsia 會員資格及測試註冊\nVanessa Cheung小姐 info@isiasia.org\n\n
URL:https://isiasia.org/competition/hki2025_db/?lang=zh-hant
LOCATION:G/F\, DB Plaza\, Discovery Bay\, Lantau Island\, Hong Kong
CATEGORIES:比賽
ATTACH;FMTTYPE=image/jpeg:https://isiasia.org/wp-content/uploads/2025/04/HKI2025_DB-Poster.jpg
END:VEVENT
END:VCALENDAR