BEGIN:VCALENDAR
VERSION:2.0
PRODID:-//ISIAsia - ECPv4.6.7//NONSGML v1.0//EN
CALSCALE:GREGORIAN
METHOD:PUBLISH
X-WR-CALNAME:ISIAsia
X-ORIGINAL-URL:https://isiasia.org/?lang=zh-hans
X-WR-CALDESC:Events for ISIAsia
BEGIN:VEVENT
DTSTART;VALUE=DATE:20250627
DTEND;VALUE=DATE:20250630
DTSTAMP:20260421T102930
CREATED:20250328T094714Z
LAST-MODIFIED:20250402T102811Z
UID:22033-1750982400-1751241599@isiasia.org
SUMMARY:2025 ISI香港滑冰邀请赛
DESCRIPTION:请下载以下档案作参考\n 比赛项目简单描述 & 竞赛规则与条例 \n 个人报名表 \n 团体报名表 \n 酒店预订特别优惠  \n  \n报名截止日期            2025年5月15日\n  \n报名程序\n1. 请确保参赛学员于比赛期间持有有效ISIAsia会籍以及报名截止前完成注册项目相关等级(如有疑问请电邮至ISIAsia办事处查询)。\n2. 填好报名表格并由教练签署确认项目等级正确。\n3. 把报名表格及报名费用递交至主办冰场\, 请注意报名表格仍然须要电邮至ISIAsia办事处作纪录。\n4. 如有项目或其他修改\, 请联络ISIAsia办事处 及 赛事总监。\n5. 请注意，报名截止日期后进行的任何更改都将收取更新费用。 \n  \n联络电邮 \n\n赛事总监 （比赛及比赛项目相关查询）\nIndy Wong先生 indywong@isiasia.org\nISIAsia 会员资格及测试注册\nVanessa Cheung小姐 info@isiasia.org\n\n
URL:https://isiasia.org/competition/hki2025_db/?lang=zh-hans
LOCATION:G/F\, DB Plaza\, Discovery Bay\, Lantau Island\, Hong Kong
CATEGORIES:比赛
ATTACH;FMTTYPE=image/jpeg:https://isiasia.org/wp-content/uploads/2025/04/HKI2025_DB-Poster-SC.jpg
END:VEVENT
END:VCALENDAR